BEGIN:VCALENDAR
VERSION:2.0
PRODID:-//KINGSWAY BOXING - ECPv5.1.2.1//NONSGML v1.0//EN
CALSCALE:GREGORIAN
METHOD:PUBLISH
X-WR-CALNAME:KINGSWAY BOXING
X-ORIGINAL-URL:https://kingswayboxingclub.com
X-WR-CALDESC:Events for KINGSWAY BOXING
BEGIN:VTIMEZONE
TZID:America/Toronto
BEGIN:DAYLIGHT
TZOFFSETFROM:-0500
TZOFFSETTO:-0400
TZNAME:EDT
DTSTART:20150308T070000
END:DAYLIGHT
BEGIN:STANDARD
TZOFFSETFROM:-0400
TZOFFSETTO:-0500
TZNAME:EST
DTSTART:20151101T060000
END:STANDARD
END:VTIMEZONE
BEGIN:VEVENT
DTSTART;TZID=America/Toronto:20150912T210000
DTEND;TZID=America/Toronto:20150913T010000
DTSTAMP:20260420T223427
CREATED:20150821T143338Z
LAST-MODIFIED:20150912T231657Z
UID:1949-1442091600-1442106000@kingswayboxingclub.com
SUMMARY:FIGHT NIGHT AT STRATOSPHERE
DESCRIPTION:In addition to coming out to see the Kingsway Boxing and Fight To End Cancer Teams in action at the annual Taste Of The Kingsway\, you can join us for our first-ever Fight Night Fundraiser with our friends at the new Stratosphere Restaurant on Bloor St. W. in Etobicoke. The night will host complementary snacks\, an exclusive showing of the much anticipated Mayweather vs. Berto Fight\, a silent auction and so much more! Help us knockout cancer the way we do it best! \nBUY TICKETS AT THE DOOR – $25.00 (limited space left – please arrive early if you are looking to attend) \n\n\n	\n
URL:https://kingswayboxingclub.com/event/fight-night-at-stratosphere/
LOCATION:Stratosphere Gastrolounge & Winebar\, 2956 Bloor St. W\, Toronto\, Ontario\, M8X 1B7\, Canada
ATTACH;FMTTYPE=image/jpeg:https://kingswayboxingclub.com/wp-content/uploads/2015/08/FightNight_Sept12_full2-scaled.jpg
END:VEVENT
END:VCALENDAR